BEGIN:VCALENDAR
VERSION:2.0
PRODID:-//Ohio Billing - ECPv6.15.20//NONSGML v1.0//EN
CALSCALE:GREGORIAN
METHOD:PUBLISH
X-WR-CALNAME:Ohio Billing
X-ORIGINAL-URL:https://ohiobilling.com
X-WR-CALDESC:Events for Ohio Billing
REFRESH-INTERVAL;VALUE=DURATION:PT1H
X-Robots-Tag:noindex
X-PUBLISHED-TTL:PT1H
BEGIN:VTIMEZONE
TZID:UTC
BEGIN:STANDARD
TZOFFSETFROM:+0000
TZOFFSETTO:+0000
TZNAME:UTC
DTSTART:20250101T000000
END:STANDARD
END:VTIMEZONE
BEGIN:VEVENT
DTSTART;TZID=UTC:20260512T083000
DTEND;TZID=UTC:20260512T090000
DTSTAMP:20260421T100411
CREATED:20260414T023953Z
LAST-MODIFIED:20260414T024011Z
UID:5690-1778574600-1778576400@ohiobilling.com
SUMMARY:Coffee Talk
DESCRIPTION:Join us along side our guest\, Mr. Mick Yinger\, Executive Director of First Responders’ Bridge to learn more about invaluable resources they provide for First Responders and their families.
URL:https://ohiobilling.com/event/coffee-talk-may12/
ATTACH;FMTTYPE=image/png:https://ohiobilling.com/wp-content/uploads/2026/04/Coffee-Talk-2026-05.png
END:VEVENT
END:VCALENDAR